BEGIN:VCALENDAR
VERSION:2.0
PRODID:icalendar-ruby
CALSCALE:GREGORIAN
BEGIN:VEVENT
DTSTAMP:20260419T234335Z
UID:aa9ca729-011d-4505-8540-d9c42f2a894c
DTSTART;TZID=Pacific/Auckland:20260419T120000
DTEND;TZID=Pacific/Auckland:20260419T123000
DESCRIPTION:Property ID# 602751
SUMMARY:Openhome for 27 Royston Street
END:VEVENT
END:VCALENDAR
