BEGIN:VCALENDAR
VERSION:2.0
PRODID:icalendar-ruby
CALSCALE:GREGORIAN
BEGIN:VEVENT
DTSTAMP:20260420T201710Z
UID:fa41c644-8095-47db-b5b2-32507a561333
DTSTART;VALUE=DATE:20250923
DESCRIPTION:Property ID# 596577\, Time: 5:00PM
SUMMARY:Auction for 
END:VEVENT
END:VCALENDAR
