BEGIN:VCALENDAR
VERSION:2.0
PRODID:icalendar-ruby
CALSCALE:GREGORIAN
BEGIN:VEVENT
DTSTAMP:20260420T234721Z
UID:d024691e-54f2-467d-a45a-bf5ce1a0d589
DTSTART;VALUE=DATE:20210330
DESCRIPTION:Property ID# 504663\, Locatoin: Auction On Site - 86 Barrys Roa
 d\, Glendene\, Time: 6:30PM
SUMMARY:Auction for 
END:VEVENT
END:VCALENDAR
